Workbook

Sheet Letture
A1: =COUNTA(A3:A1013) -> 146 | B1: =A1*B2 -> 2190 | C1: =COUNTA(C3:C1013) -> 8 | D1: =C1*D2 -> 120 | E1: =COUNTA(E3:E1013) -> 32 | F1: =E1*F2 -> 800 | G1: =COUNTA(G3:G1013) -> 56 | H1: =G1*H2 -> 1680 | I1: =COUNTA(I3:I1013) -> 14 | J1: =I1*J2 -> 420 | L1: tot preventivo | M1: =B1+D1+F1+H1+J1 -> 5210 | O1: 30 | P1: 20
A2: flag singola | B2: 15 | C2: flag multipla | D2: 15 | E2: sottolineare | F2: 25 | G2: scrivere | H2: 30 | I2: drag drop | J2: 30 | L2: tot esercizi | M2: =A1+C1+E1+G1+I1 -> 256 | O2: =M2*O1 -> 7680 | P2: =M2*P1 -> 5120
A3: 10
A4: 11 | E4: 11
A5: 11
A6: 13 | C6: 13
A7: 13
A8: 15
A9: 15
A10: 15
A11: 15
A12: 17 | C12: 17
A13: 19
A14: 19
A15: 19
A16: 19
E17: 21 | G17: 21
G18: 23
G19: 23
A20: 25
A21: 25
A22: 25
A23: 27 | C23: 27 | E23: 27
A24: 29 | E24: 29
A25: 29
E26: 31
A27: 32 | I27: 32
A28: 34 | G28: 34
G29: 35
A30: 36
A31: 37
A32: 37
A33: 38
A34: 38
G35: 39
A36: 41 | G36: 41
A37: 41
A38: 43 | C38: 43 | E38: 43 | I38: 43
G39: 44
G40: 44
...

Sheet Grammatica
A1: =COUNTA(A3:A817) -> 11 | B1: =A1*B2 -> 165 | C1: =COUNTA(C3:C817) -> 2 | D1: =C1*D2 -> 30 | E1: =COUNTA(E3:E817) -> 31 | F1: =E1*F2 -> 775 | G1: =COUNTA(G3:G817) -> 89 | H1: =G1*H2 -> 2670 | I1: =COUNTA(I3:I817) -> 41 | J1: =I1*J2 -> 1230 | K1: =COUNTA(K3:K817) -> 32 | L1: =K1*L2 -> 480 | N1: tot preventivo | O1: =B1+D1+F1+H1+J1+L1 -> 5350 | Q1: 30 | R1: 20
A2: flag singola | B2: 15 | C2: flag multipla | D2: 15 | E2: sottolineare | F2: 25 | G2: scrivere | H2: 30 | I2: drag drop | J2: 30 | K2: risp. ap. | L2: 15 | N2: tot esercizi | O2: =A1+C1+E1+G1+I1+K1 -> 206 | Q2: =O2*Q1 -> 6180 | R2: =O2*R1 -> 4120
A4: 168 | G4: 168 | I4: 168 | K4: 168
G5: 169 | I5: 169 | K5: 169
I6: 169 | K6: 169
G7: 170 | K7: 170
A8: 171 | G8: 171 | K8: 171
A9: 171
G10: 173
G11: 173
G12: 174
G13: 175 | K13: 175
G14: 175
G15: 175
C16: 176 | G16: 176
G17: 176
G18: 177 | K18: 177
A19: 178 | I19: 178
I20: 178
A21: 179 | G21: 179 | I21: 179
G22: 180
G23: 180
G24: 180
I25: 181 | K25: 181
A26: 182 | I26: 182 | K26: 182
A27: 182
A28: 183 | I28: 183 | K28: 183
E29: 184 | G29: 184 | I29: 184 | K29: 184
E30: 184 | G30: 184
E31: 184
E32: 184
G33: 185 | K33: 185
G34: 186 | K34: 186
G35: 187 | I35: 187
G36: 187
G37: 188
G38: 188
G39: 188
G40: 189 | I40: 189
G41: 189 | I41: 189
...

Sheet Foglio1
B2: flag singola | C2: 20 | D2: =Letture!A1+Grammatica!A1 -> 157 | F2: =D2*C2 -> 3140
B3: flag multipla | C3: 20 | D3: =Letture!C1+Grammatica!C1 -> 10 | F3: =D3*C3 -> 200
B4: sottolineare | C4: 25 | D4: =Letture!E1+Grammatica!E1 -> 63 | F4: =D4*C4 -> 1575
B5: scrivere | C5: 30 | D5: =Letture!G1+Grammatica!G1 -> 145 | F5: =D5*C5 -> 4350
B6: drag drop | C6: 30 | D6: =Letture!I1+Grammatica!I1 -> 55 | F6: =D6*C6 -> 1650
B7: risp. Aperta | C7: 20 | D7: =Grammatica!K1 -> 32 | F7: =D7*C7 -> 640
B9: tot esercizi 4 | D9: =SUM(D2:D8) -> 462 | F9: =SUM(F2:F8) -> 11555 | H9: =F9/D9 -> 25.010823 | I9: /cad
F12: =H12*D9 -> 11550 | H12: 25 | I12: /cad
B17: 4a e 5a
B18: x2 | D18: 900 | F18: =D18*H12 -> 22500 | H18: 25 | I18: /cad
